BEGIN:VCALENDAR
VERSION:2.0
PRODID:-//Le Grand Lieu du Conte - ECPv6.15.18//NONSGML v1.0//EN
CALSCALE:GREGORIAN
METHOD:PUBLISH
X-WR-CALNAME:Le Grand Lieu du Conte
X-ORIGINAL-URL:https://legrandlieuduconte.fr
X-WR-CALDESC:Évènements pour Le Grand Lieu du Conte
REFRESH-INTERVAL;VALUE=DURATION:PT1H
X-Robots-Tag:noindex
X-PUBLISHED-TTL:PT1H
BEGIN:VTIMEZONE
TZID:Europe/Paris
BEGIN:DAYLIGHT
TZOFFSETFROM:+0100
TZOFFSETTO:+0200
TZNAME:CEST
DTSTART:20240331T010000
END:DAYLIGHT
BEGIN:STANDARD
TZOFFSETFROM:+0200
TZOFFSETTO:+0100
TZNAME:CET
DTSTART:20241027T010000
END:STANDARD
BEGIN:DAYLIGHT
TZOFFSETFROM:+0100
TZOFFSETTO:+0200
TZNAME:CEST
DTSTART:20250330T010000
END:DAYLIGHT
BEGIN:STANDARD
TZOFFSETFROM:+0200
TZOFFSETTO:+0100
TZNAME:CET
DTSTART:20251026T010000
END:STANDARD
BEGIN:DAYLIGHT
TZOFFSETFROM:+0100
TZOFFSETTO:+0200
TZNAME:CEST
DTSTART:20260329T010000
END:DAYLIGHT
BEGIN:STANDARD
TZOFFSETFROM:+0200
TZOFFSETTO:+0100
TZNAME:CET
DTSTART:20261025T010000
END:STANDARD
END:VTIMEZONE
BEGIN:VEVENT
DTSTART;VALUE=DATE:20250211
DTEND;VALUE=DATE:20250215
DTSTAMP:20260425T142306
CREATED:20250116T112445Z
LAST-MODIFIED:20250213T111354Z
UID:7136-1739232000-1739577599@legrandlieuduconte.fr
SUMMARY:Programme Spécial Vacances du 11 au 14 février : L'eau\, source de légendes.
DESCRIPTION:PROGRAMME SPECIAL VACANCES AU GRAND LIEU DU CONTE \nMardi 11 février :\nExpérimenter le cycle de l’eau de 10H à 12H\nAtelier Conte : Initiation aux arts de conter de 14H à 16H \nMercredi 12 février :\nAtelier créatif et participatif : Illustrer la cité d’Herbauges de 14H à 17H en accès libre \nJeudi 13 février : \nFabrication de bateaux bouchons et Lecture de conte de 10H à 12H\nBalade Nature 0 déchet : Identifier les dangers de la pollution plastique de 14H à 16H \nVoir le programme
URL:https://legrandlieuduconte.fr/evenement/programme-special-vacances-dhiver/
LOCATION:Le Grand Lieu du Conte\, 2 rue des frères Rousseau\, Saint-Aignan-de-Grand-Lieu\, 44860\, France
CATEGORIES:Conte,Nature,Vie du Lieu
ATTACH;FMTTYPE=image/jpeg:https://legrandlieuduconte.fr/wp-content/uploads/2025/01/2025_02_ProgrammeVacances_Semaine1_site.jpg
ORGANIZER;CN="Le Grand Lieu du Conte":MAILTO:contact@legrandlieuduconte.fr
END:VEVENT
END:VCALENDAR