BEGIN:VCALENDAR
VERSION:2.0
PRODID:-//Le Grand Lieu du Conte - ECPv6.15.18//NONSGML v1.0//EN
CALSCALE:GREGORIAN
METHOD:PUBLISH
X-WR-CALNAME:Le Grand Lieu du Conte
X-ORIGINAL-URL:https://legrandlieuduconte.fr
X-WR-CALDESC:Évènements pour Le Grand Lieu du Conte
REFRESH-INTERVAL;VALUE=DURATION:PT1H
X-Robots-Tag:noindex
X-PUBLISHED-TTL:PT1H
BEGIN:VTIMEZONE
TZID:Europe/Paris
BEGIN:DAYLIGHT
TZOFFSETFROM:+0100
TZOFFSETTO:+0200
TZNAME:CEST
DTSTART:20250330T010000
END:DAYLIGHT
BEGIN:STANDARD
TZOFFSETFROM:+0200
TZOFFSETTO:+0100
TZNAME:CET
DTSTART:20251026T010000
END:STANDARD
BEGIN:DAYLIGHT
TZOFFSETFROM:+0100
TZOFFSETTO:+0200
TZNAME:CEST
DTSTART:20260329T010000
END:DAYLIGHT
BEGIN:STANDARD
TZOFFSETFROM:+0200
TZOFFSETTO:+0100
TZNAME:CET
DTSTART:20261025T010000
END:STANDARD
BEGIN:DAYLIGHT
TZOFFSETFROM:+0100
TZOFFSETTO:+0200
TZNAME:CEST
DTSTART:20270328T010000
END:DAYLIGHT
BEGIN:STANDARD
TZOFFSETFROM:+0200
TZOFFSETTO:+0100
TZNAME:CET
DTSTART:20271031T010000
END:STANDARD
END:VTIMEZONE
BEGIN:VEVENT
DTSTART;TZID=Europe/Paris:20260429T153000
DTEND;TZID=Europe/Paris:20260429T163000
DTSTAMP:20260421T102748
CREATED:20260220T102642Z
LAST-MODIFIED:20260303T142715Z
UID:10514-1777476600-1777480200@legrandlieuduconte.fr
SUMMARY:Goûter Conté : Sortie de résidence "Spirale... Anis et Dahan sur un fil" avec Florence Moreau
DESCRIPTION:Sortie de résidence de Florence Moreau avec le spectacle « Spirale… Anis et Dahan sur un fil » \nMercredi 29 avril 202615h30Spectacle tout public à partir de 6/7 ansDurée : 45 à 50 minutes \nPrésentation du spectacle\nC’est l’histoire de deux êtres… d’un peuple… du monde ? \nElle est née dans un village de séfarades\, basé dans le sud de l’Andalousie.Lui est funambule. Il attache son fil de part et d’autre d’un pays et se promène à travers les continents. Jusqu’au jour où le fil se détend. \n« Spirale… Anis et Dahan sur un fil » est une rencontre paisible et pleine de promesses entre deux êtres symbolisant l’un l’Occident\, l’autre le Moyen-Orient. \nCe spectacle porte une idée forte : réunir les peuples et leurs cultures. \nAvant la Reconquista en 1492\, les séfarades ont participé au foisonnement créatif et culturel d’Al-Andalus\, marqué par une coexistence féconde entre traditions musulmane\, chrétienne et juive\, notamment dans les domaines de la philosophie\, de la poésie et des sciences. \nÀ travers ce conte musical\, Florence Moreau propose également une ode à la nature\, ainsi qu’aux valeurs de paix et d’humanisme qui lui sont chères. \nPour ce voyage\, à la fois terrestre et aérien\, teinté de magie\, elle interprète des chansons issues des répertoires séfarade et oriental (en langue arabe). \nDistribution\nFlorence Moreau : conte\, chant\, derboukaVersion duo avec Jacques Mozet au oud \nUn moment poétique et musical à partager en famille\, suivi d’un échange avec les artistes. \nLe Conte Enchanteur \n 
URL:https://legrandlieuduconte.fr/evenement/gouter-conte-sortie-de-residence-spirale-anis-et-dahan-sur-un-fil-avec-florence-moreau/
LOCATION:Le Grand Lieu du Conte\, 2 rue des frères Rousseau\, Saint-Aignan-de-Grand-Lieu\, 44860\, France
CATEGORIES:Conte
ATTACH;FMTTYPE=image/jpeg:https://legrandlieuduconte.fr/wp-content/uploads/2026/02/2026_04_29_GouterConte_FlorenceMoreau_web.jpg
ORGANIZER;CN="Les GRANDLIEU'ZARTS":MAILTO:contact@legrandlieuduconte.fr
END:VEVENT
END:VCALENDAR