BEGIN:VCALENDAR
VERSION:2.0
PRODID:-//Le Grand Lieu du Conte - ECPv6.15.18//NONSGML v1.0//EN
CALSCALE:GREGORIAN
METHOD:PUBLISH
X-WR-CALNAME:Le Grand Lieu du Conte
X-ORIGINAL-URL:https://legrandlieuduconte.fr
X-WR-CALDESC:Évènements pour Le Grand Lieu du Conte
REFRESH-INTERVAL;VALUE=DURATION:PT1H
X-Robots-Tag:noindex
X-PUBLISHED-TTL:PT1H
BEGIN:VTIMEZONE
TZID:Europe/Paris
BEGIN:DAYLIGHT
TZOFFSETFROM:+0100
TZOFFSETTO:+0200
TZNAME:CEST
DTSTART:20240331T010000
END:DAYLIGHT
BEGIN:STANDARD
TZOFFSETFROM:+0200
TZOFFSETTO:+0100
TZNAME:CET
DTSTART:20241027T010000
END:STANDARD
BEGIN:DAYLIGHT
TZOFFSETFROM:+0100
TZOFFSETTO:+0200
TZNAME:CEST
DTSTART:20250330T010000
END:DAYLIGHT
BEGIN:STANDARD
TZOFFSETFROM:+0200
TZOFFSETTO:+0100
TZNAME:CET
DTSTART:20251026T010000
END:STANDARD
BEGIN:DAYLIGHT
TZOFFSETFROM:+0100
TZOFFSETTO:+0200
TZNAME:CEST
DTSTART:20260329T010000
END:DAYLIGHT
BEGIN:STANDARD
TZOFFSETFROM:+0200
TZOFFSETTO:+0100
TZNAME:CET
DTSTART:20261025T010000
END:STANDARD
END:VTIMEZONE
BEGIN:VEVENT
DTSTART;TZID=Europe/Paris:20251113T193000
DTEND;TZID=Europe/Paris:20251113T203000
DTSTAMP:20260421T101654
CREATED:20251010T102028Z
LAST-MODIFIED:20251010T102401Z
UID:9600-1763062200-1763065800@legrandlieuduconte.fr
SUMMARY:Festival BOBARDS : La Veillée Fantastique avec Quentin Foureau
DESCRIPTION:Veillée fantastique avec Quentin Foureau\nJeudi 13 novembre à 19h30 dans le cadre du Festival Bobards et en partenariat avec le Café associatif Au 3 Francs 6 Sous \nLauréat du Concours de Menteries 2023\, Quentin Foureau revient pour une veillée fantastique aux accents ancestraux.Entre vieux bois et marais de sorcellerie\, il nous entraîne dans un monde où les forces obscures se mêlent à la légende.Vous découvrirez comment le Mauvais Cornu façonna les bêtes souterraines\, et pourquoi les chats de Bretagne se rassemblent aux calvaires quand la lune est pleine… \nUne soirée à la croisée du mystère et de la tradition\, où le verbe fait frissonner les vieilles pierres. \n🕯️ Tout public⏱️ Durée : 50 min💰 Participation libre et consciente au chapeau \n👉 Lieu :Café associatif 3 Francs 6 SousLe Pellerin
URL:https://legrandlieuduconte.fr/evenement/festival-bobards-la-veillee-fantastique-avec-quentin-foureau/
LOCATION:Au 3 Francs 6 Sous\, 2 rue Docteur Gilbert Sourdille\, Le Pellerin\, 44640
CATEGORIES:Conte,Festival Bobards
ATTACH;FMTTYPE=image/jpeg:https://legrandlieuduconte.fr/wp-content/uploads/2025/10/8_Quentin_web.jpg
ORGANIZER;CN="Le Grand Lieu du Conte":MAILTO:contact@legrandlieuduconte.fr
END:VEVENT
END:VCALENDAR