BEGIN:VCALENDAR
VERSION:2.0
PRODID:-//Le Grand Lieu du Conte - ECPv6.15.18//NONSGML v1.0//EN
CALSCALE:GREGORIAN
METHOD:PUBLISH
X-WR-CALNAME:Le Grand Lieu du Conte
X-ORIGINAL-URL:https://legrandlieuduconte.fr
X-WR-CALDESC:Évènements pour Le Grand Lieu du Conte
REFRESH-INTERVAL;VALUE=DURATION:PT1H
X-Robots-Tag:noindex
X-PUBLISHED-TTL:PT1H
BEGIN:VTIMEZONE
TZID:Europe/Paris
BEGIN:DAYLIGHT
TZOFFSETFROM:+0100
TZOFFSETTO:+0200
TZNAME:CEST
DTSTART:20240331T010000
END:DAYLIGHT
BEGIN:STANDARD
TZOFFSETFROM:+0200
TZOFFSETTO:+0100
TZNAME:CET
DTSTART:20241027T010000
END:STANDARD
BEGIN:DAYLIGHT
TZOFFSETFROM:+0100
TZOFFSETTO:+0200
TZNAME:CEST
DTSTART:20250330T010000
END:DAYLIGHT
BEGIN:STANDARD
TZOFFSETFROM:+0200
TZOFFSETTO:+0100
TZNAME:CET
DTSTART:20251026T010000
END:STANDARD
BEGIN:DAYLIGHT
TZOFFSETFROM:+0100
TZOFFSETTO:+0200
TZNAME:CEST
DTSTART:20260329T010000
END:DAYLIGHT
BEGIN:STANDARD
TZOFFSETFROM:+0200
TZOFFSETTO:+0100
TZNAME:CET
DTSTART:20261025T010000
END:STANDARD
END:VTIMEZONE
BEGIN:VEVENT
DTSTART;TZID=Europe/Paris:20251111T160000
DTEND;TZID=Europe/Paris:20251111T173000
DTSTAMP:20260421T111055
CREATED:20251007T092822Z
LAST-MODIFIED:20251013T104246Z
UID:9553-1762876800-1762882200@legrandlieuduconte.fr
SUMMARY:Festival BOBARDS : Défilé futuriste à l'Équipage
DESCRIPTION:Pendant le festival BOBARDS : Préparez-vous à un moment haut en couleurs !Les bénévoles du Café associatif L’Équipage vous invitent à découvrir un défilé décalé et déjanté\, mêlant créations textiles et littéraires tout droit sorties de leur imagination. \nEntre mode\, mots et folie douce\, venez partager un instant joyeux et inventif où l’humour se tisse avec la poésie. \nUne après-midi conviviale et participative\, ouverte à toutes et tous\, pour le plaisir de célébrer la créativité collective ! \n📅 Mardi 11 novembre à 16h📍 Café associatif L’Équipage à Bouaye⏰ Durée : 1h30👥 Tout public💰 Prix libre et conscient\, au chapeau
URL:https://legrandlieuduconte.fr/evenement/festival-bobards-defile-futuriste-a-lequipage/
LOCATION:Café associatif l’Équipage\, 2 rue de Pornic\, Bouaye\, 44830
CATEGORIES:Festival Bobards
ATTACH;FMTTYPE=image/png:https://legrandlieuduconte.fr/wp-content/uploads/2025/10/5_Equipage-e1760352137461.png
ORGANIZER;CN="L'%C3%89quipage":MAILTO:asso.lequipage@gmail.com
END:VEVENT
END:VCALENDAR